BEGIN:VCALENDAR
VERSION:2.0
PRODID:-//Squarespace Inc/Squarespace 6//v6//EN
BEGIN:VEVENT
UID:5d993ed1ce76032d73dd180f@squarespace.com
DTSTAMP:20191008T000719Z
DTSTART:20191022T071500Z
DTEND:20191022T091500Z
SUMMARY:NAALA's October Parlour
END:VEVENT
END:VCALENDAR
